BEGIN:VCALENDAR
PRODID:-//MatrixMaxx//RemoteApi//EN
VERSION:2.0
METHOD:PUBLISH
CALSCALE:GREGORIAN
X-ORIGINAL-URL:http://maxxwww.naruc.org/forms/meeting/MeetingFormPublic/view?id=10F73100000001
BEGIN:VEVENT
SUMMARY:NCEP 2022 Annual Meeting -  The Evolving Customer
LAST-MODIFIED:20220922T130000Z
UID:ci_10F73100000001@matrixgroup.net
CLASS:PUBLIC
CREATED:20220922T130000Z
DTSTAMP:20220922T130000Z
DTSTART:20220922T130000Z
X-FUNAMBOL-ALLDAY:1
LOCATION:Courtyard+Marriot+Capitol+Hill+Navy+Yard
DESCRIPTION:For+full+info+see+http%3A%2F%2Fmaxxwww.naruc.org%2Fforms%2Fmeeting%2FMeetingFormPublic%2Fview%3Fid%3D10F73100000001%0A
X-WR-CALDESC:For+full+info+see+http%3A%2F%2Fmaxxwww.naruc.org%2Fforms%2Fmeeting%2FMeetingFormPublic%2Fview%3Fid%3D10F73100000001%0A
X-WR-CALNAME:Maxx Calendar
DTEND:20220923T180000Z
URL:http://maxxwww.naruc.org/forms/meeting/MeetingFormPublic/view?id=10F73100000001
END:VEVENT
END:VCALENDAR